BEGIN:VCALENDAR
VERSION:2.0
PRODID:-//MyDemeter - ECPv6.1.2.2//NONSGML v1.0//EN
CALSCALE:GREGORIAN
METHOD:PUBLISH
X-WR-CALNAME:MyDemeter
X-ORIGINAL-URL:http://mydemeter.org
X-WR-CALDESC:Events for MyDemeter
REFRESH-INTERVAL;VALUE=DURATION:PT1H
X-Robots-Tag:noindex
X-PUBLISHED-TTL:PT1H
BEGIN:VTIMEZONE
TZID:UTC
BEGIN:STANDARD
TZOFFSETFROM:+0000
TZOFFSETTO:+0000
TZNAME:UTC
DTSTART:20230101T000000
END:STANDARD
TZID:Asia/Shanghai
BEGIN:STANDARD
TZOFFSETFROM:+0800
TZOFFSETTO:+0800
TZNAME:CST
DTSTART:20220101T000000
END:STANDARD
END:VTIMEZONE
BEGIN:VEVENT
DTSTART;TZID=UTC:20250524T083000
DTEND;TZID=UTC:20250524T173000
DTSTAMP:20260420T054939
CREATED:20250507T032651Z
LAST-MODIFIED:20250507T032651Z
UID:980-1748075400-1748107800@mydemeter.org
SUMMARY:MDA Biodynamic Compost & CPP Making Workshop#28
DESCRIPTION:日期 Date: 24/05/2025 (Saturday)\n时间 Time: 8.30am-5.30pm\n学费 Fee: RM238/pax (lunch\, tea break & training note) \n地点 Venue: Rimbun Budi Farm\, Gopeng\, Perak\n\nThe workshop will be conducted in English. If you need a translator\, please highlight. TQVM.\n工作坊将以英文讲解。如需要要翻译请注明。谢谢！\n\n内容Course Content:\n1.CPP\, building the pit\, observation\, methods\, material used. 牛粪坑制作：建牛粪坑、观察、方法、使用的材料\n\n2. Compost making\, observations\, material used. 堆肥制作：观察、使用的材料 \n\n3. Storing Techniques 储存技术\n\n\n咨询Enquiry: 012.3083 663 Michelle or 019.7796 638 Captain Lee\n住宿咨询 Accommodation enquiry: 016.3299372 Chi Chang \n*费用缴交/Fee payable to: Malaysia Demeter Association\nCIMB A/c no: 80-1018225-0 (请拍你的线上转账记录/ Pls take a photo of your transaction record and upload).\nMDA 是一个非盈利团体。 所有收入都是用在协会的活动和协助农业社群。MDA is a non profit organization. All our funds are for MDA’s activities and to assist the farming community.谢谢大家  Thank you very much.
URL:http://mydemeter.org/event/mda-biodynamic-compost-cpp-making-workshop28/
LOCATION:Rimbun Budi\, Goepng\, Lot 43934\, Jalan Besar\, Kampung Jahang\, Gopeng\, Perak\, 31600\, Malaysia
CATEGORIES:Biodynamic Workshop
ATTACH;FMTTYPE=image/jpeg:http://mydemeter.org/wp-content/uploads/sites/3/2025/05/WS28-FLYER.jpg
END:VEVENT
BEGIN:VEVENT
DTSTART;VALUE=DATE:20230930
DTEND;VALUE=DATE:20231004
DTSTAMP:20260420T054939
CREATED:20230708T070014Z
LAST-MODIFIED:20230710T070921Z
UID:843-1696032000-1696377599@mydemeter.org
SUMMARY:4 Days Advanced BD Preps Making Program
DESCRIPTION:Dear Biodynamic friends\,\nYou are cordially invited to participate in this 4-day Advanced BD Preps Making workshop from 30 September to 3 October 2023 at Fay Farm Raub\, Malaysia.\nOur highly experienced trainers are Rolf and Anne Bucher from Germany. Both are Demeter Advisors\, Preps Making Trainers and the editors of BFDI’s Biodynamic Preparations Good Practice Manual.\nThis workshop is specially tailored for BD farmers who are interested in the cultivation of herbs\, making their own BD preps in their farms\, and for BD practitioners to deepen their preps-making knowledge and improve on preps quality and herbs cultivations.\nSo\, grab this rare opportunity by registering your interest with us before 15 August 2023.\nPlease apply to MDA’s training committee for financial assistance if you need help. The registration link is as below:-\nhttps://forms.gle/gdyXuwf47Wx36GsX8\nEnquiry : 012.3083663 Michelle
URL:http://mydemeter.org/event/4-days-advanced-bd-preps-making-program/
LOCATION:Fay Farm @Raub\, Malaysia
CATEGORIES:BD Preps Making
ATTACH;FMTTYPE=image/jpeg:http://mydemeter.org/wp-content/uploads/sites/3/2023/07/Advanced-Preps-Making.jpeg
END:VEVENT
BEGIN:VEVENT
DTSTART;VALUE=DATE:20230825
DTEND;VALUE=DATE:20230828
DTSTAMP:20260420T054939
CREATED:20230708T041840Z
LAST-MODIFIED:20230710T071200Z
UID:752-1692921600-1693180799@mydemeter.org
SUMMARY:MDA Biodynamic Workshop #23
DESCRIPTION:MDA-Workshop #23 Open for Registration\nThe MDA Workshop#23 is a Basic Biodynamic Agriculture workshop. \nDate：25-27/8/2023 (Friday to Sunday)\nTime：8.00am – 5.30pm for 3 days\nEarly bird fee: RM588/pax ( payment received before 25/7/23)\nFee：RM688/pax (3 days meal and training material )\nVenue:  Eu Farm\, Tangkak Johor\nSharing Teachers: Ah Hee\, Dr Vivien\, Wong Kee Yew\, Jake Harng & Captain Lee\nApplication form: https://forms.gle/DNY5s7UhqekT5QK98\nEnquiry: 012.3083663 Michelle / 012.7042480 Susan \nMDA-生物动力培训营 #23 基础班开放报名\n日期：25-27/8/2023 (星期五-星期天)\n时间：8.00am – 5.30pm\n早鸟票: RM588/人 (25/7/2023前)\n普通票：RM688/人 (3 天饮食和课程资料 )\n地点:  Eu Farm\, Tangkak Johor\n分享老师: Ah Hee\, Dr Vivien\, Wong Kee Yew\, Jake Harng & Captain Lee\n报名连接: https://forms.gle/DNY5s7UhqekT5QK98\n咨询: 012.3083663 Michelle / 012.7042480 Susan
URL:http://mydemeter.org/event/mda-biodynamic-workshop-23/
LOCATION:Eu Farm\, Tangkak Johor
CATEGORIES:Biodynamic Workshop
ATTACH;FMTTYPE=image/jpeg:http://mydemeter.org/wp-content/uploads/sites/3/2023/07/WS23-1.jpg
END:VEVENT
BEGIN:VEVENT
DTSTART;TZID=UTC:20230601T150000
DTEND;TZID=UTC:20230709T170000
DTSTAMP:20260420T054939
CREATED:20230607T073106Z
LAST-MODIFIED:20230630T014120Z
UID:670-1685631600-1688922000@mydemeter.org
SUMMARY:Durian Tasting Tour 2023
DESCRIPTION:
URL:http://mydemeter.org/event/durian-tasting-tour-2023/
LOCATION:Perak
ATTACH;FMTTYPE=image/jpeg:http://mydemeter.org/wp-content/uploads/sites/3/2023/06/20230607_pexels-hong-son-4335545-Large.jpeg
END:VEVENT
BEGIN:VEVENT
DTSTART;VALUE=DATE:20221024
DTEND;VALUE=DATE:20221027
DTSTAMP:20260420T054939
CREATED:20221017T141649Z
LAST-MODIFIED:20230708T051214Z
UID:530-1666569600-1666828799@mydemeter.org
SUMMARY:PGS Farm Visits
DESCRIPTION:24th Oct – Sg Ruan (13km-20mins) / Cameron(154.9km-2.33hrs)\, Pahang.\n\n\n\nRU Farm at Sg Klau (9am to 9.45am)\nSiamm Farm at Sg Klau (10am to 11.45 am)\nThomas’s farm at Sg Ruan (11 am to 11.45 am)\nCOP Farm at Cameron Highlands (Depart from Raub at 12.30 pm\, visit COP 3 pm to 5 pm)\n\n\n\n25th Oct – Ipoh (113.1km-2.21hrs) / Sungkai (85.1km-1.05 hrs)\, Perak.\n\n\n\nNioge Farm (Depart from Cameron 6am\, visit farm 9am to 10 am)\nKiraku Farm (1pm to 2pm)\nAh Wan’s farm (3pm to 4am\, head to Nilai)\n\n\n\n26th Oct – Nilai (177.1km -2.15hrs). Negeri Sembilan.\n\n\n\nGK farm (10am – 12pm)\n\n\n\n 
URL:http://mydemeter.org/event/pgs-farm-visits/
LOCATION:Perak
CATEGORIES:Farm Visit
ATTACH;FMTTYPE=image/jpeg:http://mydemeter.org/wp-content/uploads/sites/3/2022/10/PGS9.jpeg
END:VEVENT
BEGIN:VEVENT
DTSTART;VALUE=DATE:20221021
DTEND;VALUE=DATE:20221024
DTSTAMP:20260420T054939
CREATED:20220930T171001Z
LAST-MODIFIED:20230708T051720Z
UID:200-1666310400-1666569599@mydemeter.org
SUMMARY:Asia Pacific Biodynamic Conference & Trainers Meeting Program
DESCRIPTION:
URL:http://mydemeter.org/event/asia-pacific-biodynamic-conference-trainers-meeting-program/
LOCATION:River Hill Resort & FayFarm\, Raub\, Pahang\, Malaysia
CATEGORIES:Conference
ATTACH;FMTTYPE=image/jpeg:http://mydemeter.org/wp-content/uploads/sites/3/2022/09/Comppress-Asia-Pacific-Biodynamic-Conference_Poster_02-min-scaled.jpg
END:VEVENT
BEGIN:VEVENT
DTSTART;VALUE=DATE:20220827
DTEND;VALUE=DATE:20220829
DTSTAMP:20260420T054939
CREATED:20220930T170955Z
LAST-MODIFIED:20220930T170955Z
UID:204-1661558400-1661731199@mydemeter.org
SUMMARY:WORKSHOP #19 @ Raub on 27-28 Aug 2022
DESCRIPTION:时间表 Program (第一天 Day 1) \n\n\n\n\n\n\n\n时间 （Time）\n活动 （Activities）27 /8/ 2022 （星期六）(Sat)\n\n\n7.40 -8.15 am\n登记 registration\n\n\n8.15am-8.25am\n主持人欢迎参与的学员，提醒大家 SOP 事项。介绍 MDA\, 告诉大家当天的活动 表. MC welcomes all participants\, reminds all of the SOP to follow\, introduces MDA\, informs the day’s program\, and. introduces the speakers\n\n\n8.25am-8.30am\n农夫的诵词 （farmers’ verses）\n\n\n8.30am -9.30am （1hour）\n第一位分享老师：惯型农法（化学农药如何影响社区与孩子） 由侯薇雯博士 -Dr Vivien How –UPM： Crisis of modern agriculture; the effects of chemical pesticides on our community and children\n\n\n10.00am- 11.00am (60 min)\n第二位分享嘉宾–叶锦辉博士：人智学与活力农耕简介 2nd guest speaker- Dr Yap Kim Fay： -Introduction to basic anthroposophy & biodynamic\n\n\n11.00am- 12.00noon (60min)\n第三位分享老师-黄其銚老师:- 生命力饮食与居家农耕 3rd  sharing speaker -Teacher Wong Kee Yew: Home Gardening and life force food.\n\n\n12.00pm-12.50pm\n午餐、交流 Lunch break\n\n\n12.50pm-1.50pm (60min)\n第四位分享嘉宾-MDA 委员：谢素兰 -修复土壤的方法/ 活性土壤，BD 制剂的简介和应用-堆肥、 CPP 等，BD 500 制剂的应用和搅拌。如何制作 CPP（牛粪坑） 4th  speaker- MDA committee: Susan Siah: Soil revitalization\, introduction & application of various BD compost preps. BD 500\, BD501\, BD502-507 & BD508. BD500- application\, stirring and spraying:- Details of CPP preparations and making.\n\n\n1.50pm-2.50pm (60min)\n农友的分享(1)- 严汉雄&陈桂荣 : 果园转型至有机 BD 农场. Farmer’s sharing （1）Brother Thomas Yam & Wing Chan: Tropical mixed orchard farm: Durian farm from organic to BD\n\n\n2.50pm-3.20pm\n共车去实习农场 Car pool to Fay Farm\n\n\n3.20pm-4.00pm\n学习制作 CPP、CPP making-  Lawrence\n\n\n4.00pm-4.20pm\n茶点 tea break\n\n\n4.20pm-5.45pm\n实习：搅拌 BD500 和喷洒. Practical：Stirring of BD500 & field spray （Weikeong & Fong）\n\n\n5.45pm-6.45pm\n团体照；参观清叶农庄，自由活动 Group photos； FayFarm Visit\n\n\n \n明天见 See you tomorrow\n\n\n\n\n\n\n\n时间表 Program (第二天 Day 2) \n\n\n\n\n\n\n\n时间 （Time）\n活动 –（Activities）28 Aug 2022（星期日） (Sunday)\n\n\n7.40am -8.05am 8.05am-8.15am\n登记 registration 当天活动的简介 Briefing on the program\n\n\n8.15am-8.20am\n农夫的诵词 Farmers’ verses\n\n\n8.20am-9.20am （60 min）\n农夫老师的分享5： 梁晉畅老师Teacher Steven Leong 植物营养 （Plant nutrients）\n\n\n9.20am-9.40am\n茶点 Tea Break\n\n\n9.40am-10.40am (60 min)\n农夫老师的分享5： 梁晉畅老师Teacher Steven Leong 波卡西与堆肥 （Bokhashi and Compost）Part 1\n\n\n10.40am – 10.45am\n5 min toilet break\n\n\n10.45am- 11.45am (60min)\n农夫老师的分享5： 梁晉畅老师Teacher Steven Leong 波卡西与堆肥 （Bokhashi and Compost）Part 2\n\n\n11.45-12.15noon (30min)\nQ& A 问答时间\n\n\n12.15pm – 12.45pm\n第六位分享嘉宾-MDA 委员：Paul Ong保罗王忠山 PGS Demeter introduction （PGS 狄米特认证介绍）\n\n\n12.45pm-1.45pm （1 hr）\n午餐 Lunch break\n\n\n1.45pm-2.45pm (60min)\n农夫的分享（2）-农友鸟哥: 废置矿地种出有机 BD 菜-心灵历程- Farmer’s sharing （Brother Niaoge）: Ex-mining land becoming a mixed organic – BD vegetable farm-my life and spiritual Journey\n\n\n3.45pm-4.15pm\n下午茶点 Tea break\n\n\n4.15pm -5.45pm (1 hr 30min )\n制作波卡西-实习 Bokashi making-field practical\n\n\n5.45pm-6.45pm\nQ& A 问答时间\, Feedback form. Closing ceremony Thank you and see you again
URL:http://mydemeter.org/event/workshop-19-raub-on-27-28-aug-2022/
LOCATION:Perak
CATEGORIES:Biodynamic Workshop
END:VEVENT
BEGIN:VEVENT
DTSTART;VALUE=DATE:20220703
DTEND;VALUE=DATE:20220704
DTSTAMP:20260420T054939
CREATED:20220930T170950Z
LAST-MODIFIED:20220930T170950Z
UID:197-1656806400-1656892799@mydemeter.org
SUMMARY:Centainnel Agriculture Farm Visit
DESCRIPTION:Farm visit to Centainnel Agriculture on 3/7/22 鸟家之旅，绿肥覆盖与还田…适地而种…
URL:http://mydemeter.org/event/centainnel-agriculture-farm-visit/
LOCATION:https://goo.gl/maps/4J6yNPSqrnTVUPAq7\, Perak\, Malaysia
CATEGORIES:Farm Visit
END:VEVENT
BEGIN:VEVENT
DTSTART;VALUE=DATE:20220701
DTEND;VALUE=DATE:20220801
DTSTAMP:20260420T054939
CREATED:20220930T170943Z
LAST-MODIFIED:20220930T170943Z
UID:194-1656633600-1659311999@mydemeter.org
SUMMARY:Durian Tasting & Farm Tour at Orchard (1 June - 31 July 2022)
DESCRIPTION:TOUR\nEvery Thursday to Sunday\nTime: 4.00pm – 6.00pm\nBooking: minimum 2 persons \nPRICE\n3 persons and below\nAdult RM150.00 per person\nChild Rm80.00 per person (7-11 years) \nGROUP RATE\n4 adults and above Rm125.00 per person \nITINERARY\n4 pm Arrival at Green Acres Orchard\nFarm tour – pick\, taste\, discover\n5 pm Durian Tasting – multi varieties\n6 pm End \nONLINE BOOKING\nhttp://greenacrespenang.com \nINQUIRIES\nWhatsapp +6012 428 6368 \nREVIEWS\nhttps://greenacrespenang.rezgo.com/reviews/all \nGREEN ACRES ORCHARD & ECOLODGE\, Balik Pulau\, Penang\nNature-friendly environment | Chemical free | 35 durian varieties
URL:http://mydemeter.org/event/durian-tasting-farm-tour-at-orchard-1-june-31-july-2022/
LOCATION:Green Acres Orchard & Ecolodge\, Batu Itam\, Balik Pulau\, Penang\, Malaysia
CATEGORIES:Farm Visit
END:VEVENT
BEGIN:VEVENT
DTSTART;TZID=Asia/Shanghai:20220521T083000
DTEND;TZID=Asia/Shanghai:20220522T173000
DTSTAMP:20260420T054939
CREATED:20220930T170935Z
LAST-MODIFIED:20220930T170935Z
UID:191-1653121800-1653240600@mydemeter.org
SUMMARY:MDA Workshop #18 @ Tampin Negeri Sembilan
DESCRIPTION:Our upcoming Workshop 18@ Tampin Negeri Sembilan\, open for registration now.\n\nRegistration link: https://forms.gle/a8CdnG8HcGyp48ABA
URL:http://mydemeter.org/event/mda-workshop-18-tampin-negeri-sembilan/
LOCATION:2589-1\, Jalan Indah 6\, Taman Indah\, 73000 Tampin\, Negeri Sembilan\, Malaysia
CATEGORIES:Biodynamic Workshop
END:VEVENT
BEGIN:VEVENT
DTSTART;VALUE=DATE:20220423
DTEND;VALUE=DATE:20220425
DTSTAMP:20260420T054939
CREATED:20220930T170929Z
LAST-MODIFIED:20220930T170929Z
UID:185-1650672000-1650844799@mydemeter.org
SUMMARY:MDA Workshop #17
DESCRIPTION:Workshop 17-Preps harvesting cum farm visit @ MDA’s training center at FayFarm Raub on 23-24 April 2022.\nThank you very much to all farm owners\, volunteers\, Committee members & all participants.\n感恩大家的参与，期待下次再相会…
URL:http://mydemeter.org/event/mda-workshop-17/
LOCATION:Fay Farm @Raub\, Malaysia
CATEGORIES:Biodynamic Workshop
END:VEVENT
BEGIN:VEVENT
DTSTART;VALUE=DATE:20220313
DTEND;VALUE=DATE:20220314
DTSTAMP:20260420T054939
CREATED:20220930T170921Z
LAST-MODIFIED:20220930T170921Z
UID:181-1647129600-1647215999@mydemeter.org
SUMMARY:MDA Workshop #16
DESCRIPTION:Course Contents \n\nFarmers Sharing\n\nEvent: Biodynamic Workshop #16 \nDate: 12/3/2022 (Saturday) \nTime: 8.30am to 5.30pm \nLocation: Persatuan Buddhist Malaysia Cawangan Kecil MasjidTanah https://goo.gl/maps/Y1pdTmb18bGJJHJR7 \nFee: RM200.00 \nReviewed participant / farmer : RM 120.00 \nRegister: https://forms.gle/ugKRHAHKnQqgyM998  \nEnquiry: 012-7042 480 （Susan Siah）/ 012-6160 068 （E Tsao Chen）
URL:http://mydemeter.org/event/mda-workshop-16/
LOCATION:Persatuan Buddhist Malaysia Cawangan Kecil Masjid Tanah\, SU 1570-1572\, Taman Makmur\, Masjid Tanah\, Melaka\, 78300\, Malaysia
CATEGORIES:Biodynamic Workshop
END:VEVENT
END:VCALENDAR